BEGIN:VCALENDAR
VERSION:2.0
PRODID:-//The Island Men - ECPv6.15.20//NONSGML v1.0//EN
CALSCALE:GREGORIAN
METHOD:PUBLISH
X-WR-CALNAME:The Island Men
X-ORIGINAL-URL:https://theislandmen.com
X-WR-CALDESC:Events for The Island Men
REFRESH-INTERVAL;VALUE=DURATION:PT1H
X-Robots-Tag:noindex
X-PUBLISHED-TTL:PT1H
BEGIN:VTIMEZONE
TZID:America/New_York
BEGIN:DAYLIGHT
TZOFFSETFROM:-0500
TZOFFSETTO:-0400
TZNAME:EDT
DTSTART:20250309T070000
END:DAYLIGHT
BEGIN:STANDARD
TZOFFSETFROM:-0400
TZOFFSETTO:-0500
TZNAME:EST
DTSTART:20251102T060000
END:STANDARD
BEGIN:DAYLIGHT
TZOFFSETFROM:-0500
TZOFFSETTO:-0400
TZNAME:EDT
DTSTART:20260308T070000
END:DAYLIGHT
BEGIN:STANDARD
TZOFFSETFROM:-0400
TZOFFSETTO:-0500
TZNAME:EST
DTSTART:20261101T060000
END:STANDARD
BEGIN:DAYLIGHT
TZOFFSETFROM:-0500
TZOFFSETTO:-0400
TZNAME:EDT
DTSTART:20270314T070000
END:DAYLIGHT
BEGIN:STANDARD
TZOFFSETFROM:-0400
TZOFFSETTO:-0500
TZNAME:EST
DTSTART:20271107T060000
END:STANDARD
END:VTIMEZONE
BEGIN:VEVENT
DTSTART;VALUE=DATE:20260413
DTEND;VALUE=DATE:20260421
DTSTAMP:20260419T210803
CREATED:20260313T204753Z
LAST-MODIFIED:20260313T204950Z
UID:7498-1776038400-1776729599@theislandmen.com
SUMMARY:Little Pink Houses of Hope
DESCRIPTION:Every spring the Little Pink Houses of Hope hosts a weeklong retreat on Pleasure Island for families who have a member battling breast cancer.  The Island Men have been and continue to be a proud partner on this endeavor.  Through the strength of our membership along with the kindness and generosity of many in our community we are happy to organize activities that allow us to share our lifestyle with the visiting families.  The simple act of providing a few meals\, throwing lines in the water in hopes of landing a fish and experiencing the undemanding leisure that comes with seeing a beautiful sunset has helped us provide moments for families to relax\, unwind and reconnect in a difficult time. Little Pink Houses are moving forward with 15-20 families hosting this year on Pleasure Island and 80 people in the week of April 13th.  The Island Men will host a day of fishing for family member at the Kure Beach Pier followed by a lunch in the Kure Beach Pavilion\, additionally there is will a beach sunset cruise followed by a cook-out.\n\n\n\n\n\n\n\n\n 
URL:https://theislandmen.com/event/little-pink-houses-of-hope/
ATTACH;FMTTYPE=image/png:https://theislandmen.com/wp-content/uploads/2026/03/little-pink-houses-of-hope.png
END:VEVENT
BEGIN:VEVENT
DTSTART;TZID=America/New_York:20260509T073000
DTEND;TZID=America/New_York:20260509T170000
DTSTAMP:20260419T210803
CREATED:20260417T143633Z
LAST-MODIFIED:20260417T143911Z
UID:8072-1778311800-1778346000@theislandmen.com
SUMMARY:2026 Airshow Social
DESCRIPTION:Join the Island Men on a bus trip to the Cherry Point airshow on May 9. \nClick here for details and to buy tickets.
URL:https://theislandmen.com/event/2026-mcas/
ATTACH;FMTTYPE=image/jpeg:https://theislandmen.com/wp-content/uploads/2024/02/air-show.jpeg
END:VEVENT
BEGIN:VEVENT
DTSTART;TZID=America/New_York:20260607T140000
DTEND;TZID=America/New_York:20260607T160000
DTSTAMP:20260419T210803
CREATED:20250312T052857Z
LAST-MODIFIED:20260210T180009Z
UID:3661-1780840800-1780848000@theislandmen.com
SUMMARY:Scholarship Bourbon Raffle Drawing (Buy Tickets Here)
DESCRIPTION:The Island Men are hosting a Bourbon Raffle to raise additional funds for our Scholarship program. To date\, we have awarded $60\,000 for scholarships in our community and will surpass $70\,000 in 2026. Thank you\, as always\, for your support. \nTickets are available below or in person at: \nHoplite Irish Pub \nThe Spot \nIsland Beverage \nSilver Dollar \nThe Last Resort \n\n\nClick here to view 2nd Annual Island Men Scholarship Bourbon Raffle lots\n\n15 Year Old Pappy Van Winkle\n10 Year Old Rip Van Winkle\nWooden Car Decanter American Whiskey\nBlanton’s Original Single Barrel\, Eagle Rare\, Buffalo Trace\, Weller Special Reserve\, EH Taylor Small Batch\nOld Forester Single Barrel 100 Proof\, Old Forester Statesman\, Old Forester 1910\, Old Forester Single Barrel – Barrel Strength\nStill Austin Whiskey Co Samplers Pack\, Garrison Brothers Small Town\, Still Austin Cask Strength\, Garrison Brothers Cowboy Bourbon\, Milm & Greene Triple Cask Bourbon\nH Deringer Bourbon Whiskey Set\, Doc Holiday Straight Bourbon Whiskey\, Doc Holiday 10 Year Pistol Set\nBlanton’s Gold Edition\, Blanton’s Original Single Barrel\, Eagle Rare\, Buffalo Trace\nWeller 12 Year Old\, Weller Full Proof\, Weller Antique 107\, Weller CYPB\nOld Elk Slow Cut\, 2nd Amendment Bourbon\, James E Pepper\, 1776 Straight Bourbon Whiskey 100 Proof\, Wilderness Trail Single Barrel Kentucky Bourbon\, Whiskey Row Small Batch Bourbon Whiskey (100 Year CB Edition)\, Woodinville Bourbon Whiskey\nCalumet Farms Centennial Celebration Stables\, Little Book 2026 Kentucky Bourbon\nWillett Straight Rye\, Master Keep Wild Turkey Triumph Rye Whiskey\, Whistlepig 12 Year Old World Rye\nMaster Keep Wild Turkey Beacon Bourbon\, Old Fitzgerald 7 Year Old 100 Proof\, Whistlepig 6 Year Small Batch Bourbon\n18 Year Old Calumet Farm Kentucky Bourbon Rated 98.5 out of a 100 Centennial Edition 2024\nSix (6) Bottles of Buffalo Trace Kentucky Bourbon (6)\nTwo (2) Bottles Angel’s Envy Kentucky Straight Bourbon\, Angel’s Envy Single Barrel 90 Year Medallion NC ABC\, 1792 Sweet Wheat Bourbon and 1792 Small Batch Bourbon\nElijah Craig Small Batch Half Gallon\, Buffalo Trace Bourbon Half Gallon\, Old Forester Kentucky Straight Bourbon Whiskey Half Gallon\nFour Rose’s Single Barrel Bourbon\, Russell’s Reserve Private Barrel Selection\, Heaven Hill Bottled in Bond\, Larceny Straight Bourbon Whiskey\, Traveler Whiskey\, Fanged Pursuit Orphan Barrel Bourbon 17 Year Old\nElijah Craig Single Barrel 18 Year Old\, Elijah Craig Small Batch\, Elijah CraigBarrel Proof\, Elijah Craig Small Batch\, Elijah Craig Toasted Barrel\, Elijah Craig Single Barrel\, Elijah Craig Small Batch Ryder Cup Edition\nKentucky Owl Confiscated Bourbon Whiskey\, Kentucky Owl Maighstir Edition\, Kentucky Owl Takumi Edition Bourbon Whiskey\nMaker’s Mark Limited Edition Private Selection Tar Landing\, Maker’s Mark Limited Edition Private Selection Sweetwater Creek 2025\, Maker’s Mark Bourbon Whiskey\, Bardstown Double Barreled Discovery Series – Series 13\, Very Old Barton Bourbon Whiskey\nChattanooga Whiskey Straight Bourbon Whiskey\, Michter’s Small Batch Kentucky Bourbon\, Bardstown Autumn Cask NHCABC\, Woodinville Straight Bourbon Whiskey\, Uncle Nearest 1856 Premium Whiskey\, John J Bowman Virginia Straight Bourbon Whiskey\nWoodford Reserve Distiller’s Select Bourbon Whiskey\, Woodford Reserve Barrel Finish Select Double Oak\, Woodford Reserve Barrel Finish Select Double Double Oaked\, Woodford Reserve Master’s Collection Sweet Oak Bourbon\, Woodford Reserve Master’s Collection 119.5 Proof\nHeaven Hill Grain to Glass Chinquapin Limited Edition\, AWSC American Woman Straight Bourbon Whiskey\, Jimmy Red Sweet Mask Straight Bourbon Whiskey\, Old Raleigh Barrel Select Whiskey Society\, Smoke Wagon Uncut Unfiltered Bourbon Whiskey\nElmer T. Lee Single Barrel Kentucky Straight Bourbon Whiskey\, Blanton’s Single Barrel Original\, Eagle Rare Kentucky Bourbon Whiskey\, STAGG Kentucky Straight Bourbon Whiskey\, Willet Pot Bellied Kentucky Bourbon Whiskey\, Willett 1870-1936 Kentucky Bourbon Whiskey
URL:https://theislandmen.com/event/bourbon/
LOCATION:Silver Dollar\, 3 Cape Fear Blvd\, Carolina Beach\, North Carolina\, 28428
ATTACH;FMTTYPE=image/jpeg:https://theislandmen.com/wp-content/uploads/2025/03/Bourbon-Raffle-Header.jpg
ORGANIZER;CN="Island Men":MAILTO:theislandmen@gmail.com
END:VEVENT
BEGIN:VEVENT
DTSTART;TZID=America/New_York:20260608T074500
DTEND;TZID=America/New_York:20260608T170000
DTSTAMP:20260419T210803
CREATED:20230202T202040Z
LAST-MODIFIED:20260327T163630Z
UID:1681-1780904700-1780938000@theislandmen.com
SUMMARY:2026 Island Men/Steve Reavis Scholarship Golf Tournament
DESCRIPTION:9AM shotgun start\, registration begins @ 7:45AM \nClick here for event details and to register!\nSPONSORED BY TBD (Let us know if you’d like to sponsor!) \nThe Island Men is an all-volunteer 501(c)(3) non-profit group of local men whose broader purpose is to increase camaraderie amongst the men of Pleasure Island and the surrounding area by helping local charities through our fundraising efforts. We are also organized to strengthen our community through participation in community projects to help improve the quality of life for our fellow residents and those who visit our island. The hope is to raise money through the golf tournament\, with the help of our sponsors\, local businesses and your participation to enable even more individuals to reach their goal of obtaining higher education. See The Island Men/Steve Reavis Scholarship Golf Outing for more details.
URL:https://theislandmen.com/event/island-men-scholarship-golf-tournament/
LOCATION:Wilmington Municipal Golf Course\, 311 Donald Ross Dr\, Wilmington\, 28409\, United States
ATTACH;FMTTYPE=image/png:https://theislandmen.com/wp-content/uploads/2022/02/golf-tournament.png
ORGANIZER;CN="Island Men":MAILTO:theislandmen@gmail.com
END:VEVENT
END:VCALENDAR