BEGIN:VCALENDAR
VERSION:2.0
PRODID:-//The Island Men - ECPv6.15.20//NONSGML v1.0//EN
CALSCALE:GREGORIAN
METHOD:PUBLISH
X-ORIGINAL-URL:https://theislandmen.com
X-WR-CALDESC:Events for The Island Men
REFRESH-INTERVAL;VALUE=DURATION:PT1H
X-Robots-Tag:noindex
X-PUBLISHED-TTL:PT1H
BEGIN:VTIMEZONE
TZID:America/New_York
BEGIN:DAYLIGHT
TZOFFSETFROM:-0500
TZOFFSETTO:-0400
TZNAME:EDT
DTSTART:20190310T070000
END:DAYLIGHT
BEGIN:STANDARD
TZOFFSETFROM:-0400
TZOFFSETTO:-0500
TZNAME:EST
DTSTART:20191103T060000
END:STANDARD
BEGIN:DAYLIGHT
TZOFFSETFROM:-0500
TZOFFSETTO:-0400
TZNAME:EDT
DTSTART:20200308T070000
END:DAYLIGHT
BEGIN:STANDARD
TZOFFSETFROM:-0400
TZOFFSETTO:-0500
TZNAME:EST
DTSTART:20201101T060000
END:STANDARD
BEGIN:DAYLIGHT
TZOFFSETFROM:-0500
TZOFFSETTO:-0400
TZNAME:EDT
DTSTART:20210314T070000
END:DAYLIGHT
BEGIN:STANDARD
TZOFFSETFROM:-0400
TZOFFSETTO:-0500
TZNAME:EST
DTSTART:20211107T060000
END:STANDARD
BEGIN:DAYLIGHT
TZOFFSETFROM:-0500
TZOFFSETTO:-0400
TZNAME:EDT
DTSTART:20220313T070000
END:DAYLIGHT
BEGIN:STANDARD
TZOFFSETFROM:-0400
TZOFFSETTO:-0500
TZNAME:EST
DTSTART:20221106T060000
END:STANDARD
BEGIN:DAYLIGHT
TZOFFSETFROM:-0500
TZOFFSETTO:-0400
TZNAME:EDT
DTSTART:20230312T070000
END:DAYLIGHT
BEGIN:STANDARD
TZOFFSETFROM:-0400
TZOFFSETTO:-0500
TZNAME:EST
DTSTART:20231105T060000
END:STANDARD
END:VTIMEZONE
BEGIN:VEVENT
DTSTART;TZID=America/New_York:20220917T080000
DTEND;TZID=America/New_York:20220917T170000
DTSTAMP:20260421T122148
CREATED:20220708T152621Z
LAST-MODIFIED:20220711T214842Z
UID:1398-1663401600-1663434000@theislandmen.com
SUMMARY:2022 Carolina Beach Dragon Boat Regatta
DESCRIPTION:The Island Men Present\nThe 8th annual Carolina Beach Dragon Boat Regatta benefiting Ocean Cure and Island Men charities. \nClick here to register your team! \nKick-off Event\nWHEN: Sept 16\, 2022\, 6PM\nWHERE: Seawitch Cafe and Tiki Bar\, 227 Carolina Beach Ave N\, Carolina Beach\, NC \nRace Day\nWHEN: Sept 17\, 2022\, 8AM\nWHERE: Carolina Beach Yacht Basin \nThis year’s event will be conducted on 37′ Chinese Dragon Boats. Each boat supports 10 paddlers and 1 drummer. Teams can also have up to 4 alternates. The racecourse will be 300 meters in the Carolina Beach Yacht Basin. The Friday night outdoor concert will be held inside the Seawitch Cafe and Tiki Bar. \n   \nThe Island Men is a 501.c.3 non-profit organization whose mission is to as a volunteer organization is to raise money that supports local charities and strengthens our community through the participation in local civic\, educational and athletic projects that enhance the quality of life in our community. The proceeds of this year’s Regatta benefit Ocean Cure and the Island Men Charities and Children’s Educational\, Civic and Athletic Activities we support. \nOcean Cure is a 501c3 non-profit organization based out of Carolina Beach\, NC. It is our mission to provide increased beach accessibility to our coast\, and to help improve the quality of life for our participants through surfing. For more than ten years we have served over a thousand participants and their families with a number of life challenges and disabilities through the use of beach wheelchairs\, accessible flooring\, and adaptive surf boards. There is no beach that we cannot make accessible. And we want to make sure that our participants leave understanding that there is no obstacle that they cannot overcome. \n 
URL:https://theislandmen.com/event/2022-carolina-beach-dragon-boat-regatta/
LOCATION:Carolina Beach Yacht Basin\, 100 Carl Winner Dr\, Carolina Beach\, NC\, 28428\, United States
ATTACH;FMTTYPE=image/jpeg:https://theislandmen.com/wp-content/uploads/2022/07/DragonBoatRegattaLogo.jpg
ORGANIZER;CN="Island Men":MAILTO:theislandmen@gmail.com
END:VEVENT
BEGIN:VEVENT
DTSTART;TZID=America/New_York:20220430T110000
DTEND;TZID=America/New_York:20220430T163000
DTSTAMP:20260421T122148
CREATED:20220103T013424Z
LAST-MODIFIED:20220407T205033Z
UID:749-1651316400-1651336200@theislandmen.com
SUMMARY:2022 Backyard BBQ Cook Off - Back to the Beach
DESCRIPTION:Join the Island Men at Fort Fisher Recreation Area for our Backyard BBQ Cook Off. Free parking and Live bands. Doors open @ 11AM. \nBuy your BBQ tickets in advance and avoid the ticket lines!
URL:https://theislandmen.com/event/bring-back-the-backyard-bbq-to-pleasure-island/
LOCATION:Ft Fisher Airforce Recreation Area\, 118 Riverfront Rd\, Kure Beach\, NC\, 28449\, United States
ATTACH;FMTTYPE=image/jpeg:https://theislandmen.com/wp-content/uploads/2022/01/bbq-22.jpg
ORGANIZER;CN="Island Men":MAILTO:theislandmen@gmail.com
END:VEVENT
BEGIN:VEVENT
DTSTART;TZID=America/New_York:20220425T090000
DTEND;TZID=America/New_York:20220425T160000
DTSTAMP:20260421T122148
CREATED:20220121T033753Z
LAST-MODIFIED:20220419T222235Z
UID:779-1650877200-1650902400@theislandmen.com
SUMMARY:2022 Island Men Scholarship Golf Tournament
DESCRIPTION:9AM shotgun start\, registration begins @ 7:45AM \nSIGN-UP YOUR TEAM TODAY! Contact Steve Reavis 954-658-7343. \nThe Island Men is an all-volunteer 501.c.3 non-profit group of local men whose broader purpose is to increase camaraderie amongst the men of Pleasure Island and the surrounding area by helping local charities through our fundraising efforts. We are also organized to strengthen our community through participation in community projects to help improve the quality of life for our fellow residents and those who visit our island. The Island Men currently awards five $1000 dollar scholarships to individuals in our area who are attending an accredited program of higher education through a 529 program that we established in 2020. In 2021\, we had 22 quality applications from which we chose five individuals to receive scholarships. The hope is to raise money through the golf tournament\, with the help of our sponsors\, local businesses and your participation to enable even more individuals to reach their goal of obtaining higher education.
URL:https://theislandmen.com/event/2022-island-men-scholarship-golf-tournament/
LOCATION:Beau Rivage\, 649 Rivage Promenade\, Wilmington\, NC\, 28412\, United States
ATTACH;FMTTYPE=image/png:https://theislandmen.com/wp-content/uploads/2022/02/golf-tournament.png
ORGANIZER;CN="Island Men":MAILTO:theislandmen@gmail.com
END:VEVENT
BEGIN:VEVENT
DTSTART;VALUE=DATE:20220203
DTEND;VALUE=DATE:20220205
DTSTAMP:20260421T122148
CREATED:20220103T013145Z
LAST-MODIFIED:20220103T013145Z
UID:745-1643914800-1644001199@theislandmen.com
SUMMARY:2022 Missed Pleasure Island Pageant
DESCRIPTION:Check back later for more details.
URL:https://theislandmen.com/event/2022-missed-pleasure-island-pageant/
LOCATION:NC
ORGANIZER;CN="Island Men":MAILTO:theislandmen@gmail.com
END:VEVENT
BEGIN:VEVENT
DTSTART;VALUE=DATE:20220113
DTEND;VALUE=DATE:20220116
DTSTAMP:20260421T122148
CREATED:20220103T012839Z
LAST-MODIFIED:20220107T042100Z
UID:742-1642100400-1642273199@theislandmen.com
SUMMARY:Martha's Kitchen Fundraiser
DESCRIPTION:Click here for more details.
URL:https://theislandmen.com/event/marthas-kitchen-fundraiser/
LOCATION:Stoked\, 313 Canal Drive\, Carolina Beach\, NC\, 28428\, United States
ORGANIZER;CN="Island Men":MAILTO:theislandmen@gmail.com
END:VEVENT
BEGIN:VEVENT
DTSTART;TZID=America/New_York:20211218T120000
DTEND;TZID=America/New_York:20211218T130000
DTSTAMP:20260421T122148
CREATED:20211207T062340Z
LAST-MODIFIED:20211207T073732Z
UID:689-1639828800-1639832400@theislandmen.com
SUMMARY:2021 Island Men Christmas Golf Cart Parade
DESCRIPTION:Meet at Publix starting at 4 PM. Click here to enter.
URL:https://theislandmen.com/event/christmas/
LOCATION:NC
END:VEVENT
BEGIN:VEVENT
DTSTART;VALUE=DATE:20211105
DTEND;VALUE=DATE:20211107
DTSTAMP:20260421T122148
CREATED:20210527T230215Z
LAST-MODIFIED:20211005T171142Z
UID:331-1636142400-1636228799@theislandmen.com
SUMMARY:Veterans Parade Wilmington Security (Members event)
DESCRIPTION:Check back for more details
URL:https://theislandmen.com/event/veterans-parade-wilmington-security-memebers-event/
LOCATION:NC
END:VEVENT
BEGIN:VEVENT
DTSTART;TZID=America/New_York:20211028T133000
DTEND;TZID=America/New_York:20211028T170000
DTSTAMP:20260421T122148
CREATED:20211004T235331Z
LAST-MODIFIED:20211004T235331Z
UID:591-1635427800-1635440400@theislandmen.com
SUMMARY:October Disc Golf
DESCRIPTION:Members event
URL:https://theislandmen.com/event/october-disc-golf/
LOCATION:Good Hops\, 811 Harper Ave\, Carolina Beach\, NC\, 28428\, United States
END:VEVENT
BEGIN:VEVENT
DTSTART;TZID=America/New_York:20211022T140000
DTEND;TZID=America/New_York:20211022T160000
DTSTAMP:20260421T122148
CREATED:20211004T235158Z
LAST-MODIFIED:20211004T235158Z
UID:589-1634911200-1634918400@theislandmen.com
SUMMARY:Beach Meetup
DESCRIPTION:Members event
URL:https://theislandmen.com/event/beach-meetup-2/
LOCATION:Hamlet Beach Access
END:VEVENT
BEGIN:VEVENT
DTSTART;TZID=America/New_York:20211016T063000
DTEND;TZID=America/New_York:20211016T130000
DTSTAMP:20260421T122148
CREATED:20211004T235117Z
LAST-MODIFIED:20211004T235117Z
UID:586-1634365800-1634389200@theislandmen.com
SUMMARY:Disc Golf
DESCRIPTION:Members event
URL:https://theislandmen.com/event/disc-golf/
LOCATION:Arrowhead Park\, 720 Arnold Rd\, Wilmington\, NC\, 28412\, United States
END:VEVENT
BEGIN:VEVENT
DTSTART;TZID=America/New_York:20211010T060000
DTEND;TZID=America/New_York:20211010T130000
DTSTAMP:20260421T122148
CREATED:20211004T234903Z
LAST-MODIFIED:20211004T234903Z
UID:583-1633845600-1633870800@theislandmen.com
SUMMARY:Range Day
DESCRIPTION:
URL:https://theislandmen.com/event/range-day/
LOCATION:Ye Olde Gun Range\, 4200 Committee Dr\, Southport\, NC\, 28461\, United States
END:VEVENT
BEGIN:VEVENT
DTSTART;TZID=America/New_York:20211008T150000
DTEND;TZID=America/New_York:20211008T180000
DTSTAMP:20260421T122148
CREATED:20211004T234521Z
LAST-MODIFIED:20211004T235438Z
UID:577-1633705200-1633716000@theislandmen.com
SUMMARY:October Cards Night
DESCRIPTION:Members event
URL:https://theislandmen.com/event/october-cards-night/
LOCATION:Sea Grove Clubhouse
END:VEVENT
BEGIN:VEVENT
DTSTART;TZID=America/New_York:20211008T140000
DTEND;TZID=America/New_York:20211008T160000
DTSTAMP:20260421T122148
CREATED:20211004T234655Z
LAST-MODIFIED:20211004T235402Z
UID:580-1633701600-1633708800@theislandmen.com
SUMMARY:Beach Meetup
DESCRIPTION:Members event
URL:https://theislandmen.com/event/beach-meetup/
LOCATION:Hamlet Beach Access
END:VEVENT
BEGIN:VEVENT
DTSTART;TZID=America/New_York:20210917T130000
DTEND;TZID=America/New_York:20210918T180000
DTSTAMP:20260421T122148
CREATED:20210527T225913Z
LAST-MODIFIED:20210731T190413Z
UID:325-1631883600-1631988000@theislandmen.com
SUMMARY:2021 Dragon Boat Festival and Regatta
DESCRIPTION:Check back for more details as this even gets closer.
URL:https://theislandmen.com/event/dragonboats/
LOCATION:NC
END:VEVENT
BEGIN:VEVENT
DTSTART;TZID=America/New_York:20210701T120000
DTEND;TZID=America/New_York:20210701T153000
DTSTAMP:20260421T122148
CREATED:20210527T225201Z
LAST-MODIFIED:20210624T183044Z
UID:319-1625140800-1625153400@theislandmen.com
SUMMARY:2021 Island Men Patriotic Golf Cart Palooza
DESCRIPTION:The 2021 Island Men Patriotic Golf Cart Palooza will be July 1st\n\nLine will begin forming at 4PM…..Ride begins at 5:30PM\nWe hope you will decorate your cart in patriotic colors and designs\, join the ride and donate to the Island Men Charities we support on the Island. \n\nCLICK HERE FOR WAIVER AND REGISTRATION\n\nA couple rules\n\n\n\nNo Political Signs or Statements\nNo alcohol consumption during the ride\nFollow the Cart in Front of you and no Passing during the route.\nStart Line is the St Joseph entrance of the Publix Parking Lot\nFinish Line is the Carolina Beach Gazebo\n\n\n\n********Bring Wrapped Candy – Previous Golf Cart Rides have made it a requirement*********************
URL:https://theislandmen.com/event/patriotic-palooza/
LOCATION:NC
END:VEVENT
BEGIN:VEVENT
DTSTART;TZID=America/New_York:20201212T100000
DTEND;TZID=America/New_York:20201212T130000
DTSTAMP:20260421T122148
CREATED:20201120T043845Z
LAST-MODIFIED:20201230T062929Z
UID:222-1607767200-1607778000@theislandmen.com
SUMMARY:2020 Kure Beach Christmas Golf Cart Extravaganza
DESCRIPTION:Thanks to everyone who participated in the 2020 Kure Beach Christmas Extravaganza!
URL:https://theislandmen.com/event/2020-kure-beach-christmas-golf-cart-extravaganza/
LOCATION:NC
END:VEVENT
BEGIN:VEVENT
DTSTART;TZID=America/New_York:20201205T103000
DTEND;TZID=America/New_York:20201205T150000
DTSTAMP:20260421T122148
CREATED:20201109T052127Z
LAST-MODIFIED:20201230T062949Z
UID:208-1607164200-1607180400@theislandmen.com
SUMMARY:2020 Carolina Beach Christmas Golf Cart Extravaganza
DESCRIPTION:Thanks to everyone who participated in the 2020 Carolina Beach Christmas Extravaganza!
URL:https://theislandmen.com/event/2020-carolina-beach-christmas-golf-cart-extravaganza/
LOCATION:NC
ORGANIZER;CN="Island Men":MAILTO:theislandmen@gmail.com
END:VEVENT
BEGIN:VEVENT
DTSTART;TZID=America/New_York:20201024T123000
DTEND;TZID=America/New_York:20201024T160000
DTSTAMP:20260421T122148
CREATED:20200831T041610Z
LAST-MODIFIED:20201110T055651Z
UID:159-1603542600-1603555200@theislandmen.com
SUMMARY:2020 Island Men Golf Cart Rally
DESCRIPTION:2020 ISLAND MEN GOLF CART RALLY  \n\nDate: Saturday\, Early Evening October 24th\, 2020\nTime: Rally will be assembling between 4:30 to 5:30\nThe Rally will follow a 45 to 60 min Route with a focus on Family Fun and Safety.\nThe objective of the Rally is to raise money for local charities and to also promote a night out to local Restaurants.  \nWe expect the Rally to be over by 8PM with all participants ending up at a designated restaurant location. \n\nThe 2020 Island Men Golf Cart Rally & Fund Raiser is a family fun event to be held in Carolina Beach\, NC on Saturday\, October 24th. The Event is designed for families with social distancing and wearing masks incorporated to ensure public safety.  The Golf Cart Rally is something short of a parade with Golf Carts Lighted and Decorated in the spirit of Halloween.   \n  \nThe event is sponsored to help raise money for local charities and each Golf Cart entered would donate $25 to the Island Men Charity Fund for future distribution to the charities we support. The Rally will follow a course through the residential neighborhoods where we would encourage residents and their families to come watch it from their yards.   \n  \nThere will be a Judges Table for review and Trophies and Prizes will be given out to winners or certain categories.. \n(Sample Categories) Best Decorated Cart\, Best Rider Costumes\, Best use of Lighting\, Most Original\, Best Children’s Subject Entry\, Most Spirited. \n  \nEVENT RULES ARE STILL IN THE WORKS BUT WILL INCLUDE: \n\nSOCIAL DISTANCING OF CARTS\nSEAT BELTS WORN BY ALL RIDERS\nMASKS TO BE WORN BY ALL RIDERS\nALL RIDERS MUST REMAIN ON THE GOLF CART DURING THE RALLY\nNO ALCOHOL ON CARTS\nYOU MUST HAVE FUN
URL:https://theislandmen.com/event/2020-island-men-golf-cart-rally/
LOCATION:NC
END:VEVENT
BEGIN:VEVENT
DTSTART;TZID=America/New_York:20200611T120000
DTEND;TZID=America/New_York:20200611T150000
DTSTAMP:20260421T122148
CREATED:20200610T044115Z
LAST-MODIFIED:20200610T044115Z
UID:155-1591876800-1591887600@theislandmen.com
SUMMARY:Donation Event
DESCRIPTION:  \nThe Island Men and The Island Women will be collecting donations for the Federal Point Help Center. \nhttps://www.wwaytv3.com/2020/06/08/island-men-island-women-collecting-donations-for-federal-point-help-center/
URL:https://theislandmen.com/event/donation-event-2/
LOCATION:Hoplite
END:VEVENT
BEGIN:VEVENT
DTSTART;TZID=America/New_York:20200610T120000
DTEND;TZID=America/New_York:20200610T150000
DTSTAMP:20260421T122148
CREATED:20200610T043832Z
LAST-MODIFIED:20200610T043956Z
UID:150-1591790400-1591801200@theislandmen.com
SUMMARY:Donation event
DESCRIPTION:The Island Men and The Island Women will be collecting donations for the Federal Point Help Center. \nhttps://www.wwaytv3.com/2020/06/08/island-men-island-women-collecting-donations-for-federal-point-help-center/
URL:https://theislandmen.com/event/donation-event/
LOCATION:The Lazy Pirate
END:VEVENT
END:VCALENDAR